BEGIN:VCALENDAR
VERSION:2.0
PRODID:-//Thrive Yoga Crested Butte - ECPv6.15.20//NONSGML v1.0//EN
CALSCALE:GREGORIAN
METHOD:PUBLISH
X-WR-CALNAME:Thrive Yoga Crested Butte
X-ORIGINAL-URL:https://thriveyogacb.com
X-WR-CALDESC:Events for Thrive Yoga Crested Butte
REFRESH-INTERVAL;VALUE=DURATION:PT1H
X-Robots-Tag:noindex
X-PUBLISHED-TTL:PT1H
BEGIN:VTIMEZONE
TZID:America/Denver
BEGIN:DAYLIGHT
TZOFFSETFROM:-0700
TZOFFSETTO:-0600
TZNAME:MDT
DTSTART:20240310T090000
END:DAYLIGHT
BEGIN:STANDARD
TZOFFSETFROM:-0600
TZOFFSETTO:-0700
TZNAME:MST
DTSTART:20241103T080000
END:STANDARD
BEGIN:DAYLIGHT
TZOFFSETFROM:-0700
TZOFFSETTO:-0600
TZNAME:MDT
DTSTART:20250309T090000
END:DAYLIGHT
BEGIN:STANDARD
TZOFFSETFROM:-0600
TZOFFSETTO:-0700
TZNAME:MST
DTSTART:20251102T080000
END:STANDARD
BEGIN:DAYLIGHT
TZOFFSETFROM:-0700
TZOFFSETTO:-0600
TZNAME:MDT
DTSTART:20260308T090000
END:DAYLIGHT
BEGIN:STANDARD
TZOFFSETFROM:-0600
TZOFFSETTO:-0700
TZNAME:MST
DTSTART:20261101T080000
END:STANDARD
END:VTIMEZONE
BEGIN:VEVENT
DTSTART;TZID=America/Denver:20250105T150000
DTEND;TZID=America/Denver:20250105T170000
DTSTAMP:20260419T214618
CREATED:20241213T235559Z
LAST-MODIFIED:20250121T002149Z
UID:30000005-1736089200-1736096400@thriveyogacb.com
SUMMARY:Therapeutic Yoga Workshop
DESCRIPTION:In this Therapeutic yoga workshop\, we will move slowly through a two-hour practice based on the principles of therapeutic yoga. This approach involves a methodical application of sequences designed to unwind fascial patterns of holding and pain in the body. While much of the work is floor-based and passive\, it remains a deeply effective and transformative practice. \nWhat is a Therapeutic yoga workshop?\nTherapeutic yoga works by resetting the nervous system\, opening the joints\, and releasing restrictive patterns through long holds and precise alignment. This process targets the body’s underlying structure\, allowing for a deeper\, more lasting release. Although the movements may appear simple\, the practice requires mindful engagement and can be surprisingly intense. \nThis is an all-level class\, welcoming athletes\, sedentary individuals\, young and old alike. Regardless of your level of experience\, you will find this practice accessible and beneficial. The focus on joint health rather than just stretching muscles helps address the root cause of tension and discomfort\, promoting optimal structure and function throughout the body. \nBy working with the joints\, we aim to restore the body’s natural alignment\, enabling internal systems to function as efficiently as possible. This creates a supportive environment for long-term health and vitality\, making this practice a form of “anti-aging yoga” from the inside out. The effects extend beyond the physical\, fostering clarity and ease in the mind. \nThe workshop uses straightforward\, accessible poses that require no special flexibility or strength. Each shape is designed to facilitate genuine freedom of movement\, emphasizing stability and comfort. Through this intentional\, therapeutic approach\, you will cultivate a deeper awareness of your body and its unique needs. \nExpect a calm\, supportive environment where you can explore the practice at your own pace. Whether you seek relief from chronic pain\, greater mobility\, or simply a chance to unwind\, this workshop offers valuable tools for lifelong well-being. \nWe look forward to sharing this transformative experience with you. Come as you are\, with an open mind and a willingness to explore the potential for healing and renewal through therapeutic yoga. \n 
URL:https://thriveyogacb.com/event/therapeutic-yoga-workshop-2/
LOCATION:Thrive Yoga Crested Butte\, 326 Elk Ave\, Crested Butte\, CO\, 81224\, United States
CATEGORIES:Yoga
ATTACH;FMTTYPE=image/png:https://thriveyogacb.com/wp-content/uploads/2024/12/Therapeutic-Yoga-Workshop.png
END:VEVENT
END:VCALENDAR