BEGIN:VCALENDAR
VERSION:2.0
PRODID:-//Thrive Yoga Crested Butte - ECPv6.15.20//NONSGML v1.0//EN
CALSCALE:GREGORIAN
METHOD:PUBLISH
X-ORIGINAL-URL:https://thriveyogacb.com
X-WR-CALDESC:Events for Thrive Yoga Crested Butte
REFRESH-INTERVAL;VALUE=DURATION:PT1H
X-Robots-Tag:noindex
X-PUBLISHED-TTL:PT1H
BEGIN:VTIMEZONE
TZID:America/Denver
BEGIN:DAYLIGHT
TZOFFSETFROM:-0700
TZOFFSETTO:-0600
TZNAME:MDT
DTSTART:20240310T090000
END:DAYLIGHT
BEGIN:STANDARD
TZOFFSETFROM:-0600
TZOFFSETTO:-0700
TZNAME:MST
DTSTART:20241103T080000
END:STANDARD
BEGIN:DAYLIGHT
TZOFFSETFROM:-0700
TZOFFSETTO:-0600
TZNAME:MDT
DTSTART:20250309T090000
END:DAYLIGHT
BEGIN:STANDARD
TZOFFSETFROM:-0600
TZOFFSETTO:-0700
TZNAME:MST
DTSTART:20251102T080000
END:STANDARD
BEGIN:DAYLIGHT
TZOFFSETFROM:-0700
TZOFFSETTO:-0600
TZNAME:MDT
DTSTART:20260308T090000
END:DAYLIGHT
BEGIN:STANDARD
TZOFFSETFROM:-0600
TZOFFSETTO:-0700
TZNAME:MST
DTSTART:20261101T080000
END:STANDARD
END:VTIMEZONE
BEGIN:VEVENT
DTSTART;TZID=America/Denver:20250128T190000
DTEND;TZID=America/Denver:20250128T203000
DTSTAMP:20260419T183821
CREATED:20250121T013009Z
LAST-MODIFIED:20250121T013640Z
UID:30000020-1738090800-1738096200@thriveyogacb.com
SUMMARY:Breathwork Journey
DESCRIPTION:Come experience the power of the breath through this active breathing meditation. Breathwork is a tremendous way of activating energy throughout the body\, shifting the chemistry\, and releasing hormones that bring you into a deep meditative state. This allows stuck energy like stress\, grief\, and sadness to dislodge from where it’s stored in your body and unconscious. That release brings incredible relief to your entire being and typically leads to great revelations\, insights\, and helpful messages that come through your consciousness. It feels like a big energetic cleanse! \nDuring this simple 3-part breathwork\, we’ll be laying down and fully relaxed with eye pillows and blankets. We’ll start with setting intentions as we connect with the group before we move into our breathing journey. \nYou’ll leave feeling lighter in your body\, clearer in your mind\, and more connected to yourself. \nWhat to wear and bring:\n\nComfy warm clothes\nWater\n\nOptional: \n\nA special item to dedicate your experience to or to cleanse during our ceremony: a piece from nature\, a piece of jewelry\, a photo\, etc. Anything goes!\nEye pillow\nJournal and pen to jot down and integrate your experience
URL:https://thriveyogacb.com/event/breathwork-journey/
LOCATION:Thrive Yoga Crested Butte\, 326 Elk Ave\, Crested Butte\, CO\, 81224\, United States
CATEGORIES:Breathwork
ATTACH;FMTTYPE=image/jpeg:https://thriveyogacb.com/wp-content/uploads/2025/01/Breathwork-Journey-2025.jpeg
END:VEVENT
END:VCALENDAR