BEGIN:VCALENDAR
VERSION:2.0
PRODID:-//Thrive Yoga Crested Butte - ECPv6.15.20//NONSGML v1.0//EN
CALSCALE:GREGORIAN
METHOD:PUBLISH
X-WR-CALNAME:Thrive Yoga Crested Butte
X-ORIGINAL-URL:https://thriveyogacb.com
X-WR-CALDESC:Events for Thrive Yoga Crested Butte
REFRESH-INTERVAL;VALUE=DURATION:PT1H
X-Robots-Tag:noindex
X-PUBLISHED-TTL:PT1H
BEGIN:VTIMEZONE
TZID:America/Denver
BEGIN:DAYLIGHT
TZOFFSETFROM:-0700
TZOFFSETTO:-0600
TZNAME:MDT
DTSTART:20240310T090000
END:DAYLIGHT
BEGIN:STANDARD
TZOFFSETFROM:-0600
TZOFFSETTO:-0700
TZNAME:MST
DTSTART:20241103T080000
END:STANDARD
BEGIN:DAYLIGHT
TZOFFSETFROM:-0700
TZOFFSETTO:-0600
TZNAME:MDT
DTSTART:20250309T090000
END:DAYLIGHT
BEGIN:STANDARD
TZOFFSETFROM:-0600
TZOFFSETTO:-0700
TZNAME:MST
DTSTART:20251102T080000
END:STANDARD
BEGIN:DAYLIGHT
TZOFFSETFROM:-0700
TZOFFSETTO:-0600
TZNAME:MDT
DTSTART:20260308T090000
END:DAYLIGHT
BEGIN:STANDARD
TZOFFSETFROM:-0600
TZOFFSETTO:-0700
TZNAME:MST
DTSTART:20261101T080000
END:STANDARD
END:VTIMEZONE
BEGIN:VEVENT
DTSTART;TZID=America/Denver:20250302T150000
DTEND;TZID=America/Denver:20250302T170000
DTSTAMP:20260419T170725
CREATED:20250120T083147Z
LAST-MODIFIED:20250121T002056Z
UID:30000019-1740927600-1740934800@thriveyogacb.com
SUMMARY:Iyengar Yoga Winter Workshop Series Iyengar Inversions Deepen and Expand Your Practice
DESCRIPTION:Take your inversion practice to the next level in this focused Iyengar yoga workshop. Designed for practitioners with prior experience in Sirsasana (Headstand) and Sarvangasana (Shoulderstand)\, this session explores refined techniques\, variations\, and complementary inversions to build strength\, stability\, and confidence. \nThrough guided practice and personalized adjustments\, you’ll deepen your understanding of key inversions\, enhance body awareness\, and cultivate balance from within. Discover how inversions can energize\, stabilize\, and transform your practice both on and off the mat. \nCome ready to invert\, explore\, and expand in a supportive and focused learning environment.
URL:https://thriveyogacb.com/event/iyengar-yoga-winter-workshop-series-iyengar-inversions-deepen-and-expand-your-practice/
LOCATION:Thrive Yoga Crested Butte\, 326 Elk Ave\, Crested Butte\, CO\, 81224\, United States
CATEGORIES:Yoga
ATTACH;FMTTYPE=image/png:https://thriveyogacb.com/wp-content/uploads/2025/01/Iyengar-Yoga-Winter-Workshop-Series-Iyengar-Inversions-Deepen-and-Expand-Your-Practice.png
END:VEVENT
END:VCALENDAR