BEGIN:VCALENDAR
VERSION:2.0
PRODID:-//Thrive Yoga Crested Butte - ECPv6.15.20//NONSGML v1.0//EN
CALSCALE:GREGORIAN
METHOD:PUBLISH
X-WR-CALNAME:Thrive Yoga Crested Butte
X-ORIGINAL-URL:https://thriveyogacb.com
X-WR-CALDESC:Events for Thrive Yoga Crested Butte
REFRESH-INTERVAL;VALUE=DURATION:PT1H
X-Robots-Tag:noindex
X-PUBLISHED-TTL:PT1H
BEGIN:VTIMEZONE
TZID:America/Denver
BEGIN:DAYLIGHT
TZOFFSETFROM:-0700
TZOFFSETTO:-0600
TZNAME:MDT
DTSTART:20240310T090000
END:DAYLIGHT
BEGIN:STANDARD
TZOFFSETFROM:-0600
TZOFFSETTO:-0700
TZNAME:MST
DTSTART:20241103T080000
END:STANDARD
BEGIN:DAYLIGHT
TZOFFSETFROM:-0700
TZOFFSETTO:-0600
TZNAME:MDT
DTSTART:20250309T090000
END:DAYLIGHT
BEGIN:STANDARD
TZOFFSETFROM:-0600
TZOFFSETTO:-0700
TZNAME:MST
DTSTART:20251102T080000
END:STANDARD
BEGIN:DAYLIGHT
TZOFFSETFROM:-0700
TZOFFSETTO:-0600
TZNAME:MDT
DTSTART:20260308T090000
END:DAYLIGHT
BEGIN:STANDARD
TZOFFSETFROM:-0600
TZOFFSETTO:-0700
TZNAME:MST
DTSTART:20261101T080000
END:STANDARD
END:VTIMEZONE
BEGIN:VEVENT
DTSTART;TZID=America/Denver:20250304T190000
DTEND;TZID=America/Denver:20250304T200000
DTSTAMP:20260419T170727
CREATED:20250223T000624Z
LAST-MODIFIED:20250223T000712Z
UID:30000025-1741114800-1741118400@thriveyogacb.com
SUMMARY:Free Crystal Bowl Sound Bath
DESCRIPTION:Join Andrea Ouimet of Alpine Sound Therapy in an immersive experience with the powerful healing sounds of crystal singing bowls\, tuning forks and other sound instruments. A sound bath is a full immersion meditative experience using sound to invite gentle yet powerful therapeutic processes to benefit your mind and body. \nThis is a free event co-sponsored by CB State of Mind and Axis Health and hosted at Thrive Yoga CB.
URL:https://thriveyogacb.com/event/free-crystal-bowl-sound-bath/
LOCATION:Thrive Yoga Crested Butte\, 326 Elk Ave\, Crested Butte\, CO\, 81224\, United States
CATEGORIES:Sound Bath
ATTACH;FMTTYPE=image/png:https://thriveyogacb.com/wp-content/uploads/2025/02/Free-Crystal-Bowl-Sound-Bath-2025-03.png
END:VEVENT
END:VCALENDAR