BEGIN:VCALENDAR
VERSION:2.0
PRODID:-//Thrive Yoga Crested Butte - ECPv6.15.20//NONSGML v1.0//EN
CALSCALE:GREGORIAN
METHOD:PUBLISH
X-WR-CALNAME:Thrive Yoga Crested Butte
X-ORIGINAL-URL:https://thriveyogacb.com
X-WR-CALDESC:Events for Thrive Yoga Crested Butte
REFRESH-INTERVAL;VALUE=DURATION:PT1H
X-Robots-Tag:noindex
X-PUBLISHED-TTL:PT1H
BEGIN:VTIMEZONE
TZID:America/Denver
BEGIN:DAYLIGHT
TZOFFSETFROM:-0700
TZOFFSETTO:-0600
TZNAME:MDT
DTSTART:20240310T090000
END:DAYLIGHT
BEGIN:STANDARD
TZOFFSETFROM:-0600
TZOFFSETTO:-0700
TZNAME:MST
DTSTART:20241103T080000
END:STANDARD
BEGIN:DAYLIGHT
TZOFFSETFROM:-0700
TZOFFSETTO:-0600
TZNAME:MDT
DTSTART:20250309T090000
END:DAYLIGHT
BEGIN:STANDARD
TZOFFSETFROM:-0600
TZOFFSETTO:-0700
TZNAME:MST
DTSTART:20251102T080000
END:STANDARD
BEGIN:DAYLIGHT
TZOFFSETFROM:-0700
TZOFFSETTO:-0600
TZNAME:MDT
DTSTART:20260308T090000
END:DAYLIGHT
BEGIN:STANDARD
TZOFFSETFROM:-0600
TZOFFSETTO:-0700
TZNAME:MST
DTSTART:20261101T080000
END:STANDARD
END:VTIMEZONE
BEGIN:VEVENT
DTSTART;TZID=America/Denver:20250312T190000
DTEND;TZID=America/Denver:20250312T203000
DTSTAMP:20260419T183754
CREATED:20250205T201642Z
LAST-MODIFIED:20250205T211614Z
UID:30000023-1741806000-1741811400@thriveyogacb.com
SUMMARY:Breathwork Journey
DESCRIPTION:If you’re dealing with stress\, a cluttered mind\, anger or grief\, this deep breathwork meditation is a phenomenal tool to help you clear out that stuck energy and feel more aligned with yourself. \nThis style of breathwork has a tremendous way of stimulating energy and hormones throughout your body\, bringing you into a more introspective\, meditative state. Similar to psychedelics\, each breathwork journey is different – your body guides you where you need to go on that day\, helping you release stagnant energy so you can feel more like your natural self. You may feel a release of energy or emotions\, feel a deeper connection to yourself or the world\, or you may have revelations and deep insights. You’ll leave feeling lighter in your body\, and clearer in your mind. \nDuring this simple 3-part breathwork session\, we will be lying down and fully relaxed with eye pillows and blankets. We’ll start the evening with instructions and move into setting intentions as we connect briefly with the group. There will be a small altar in the center of the room where you can place an item you would like to cleanse or use as a dedication. The breathwork journey is guided by Keela\, the facilitator\, along with intentional music and natural plant aromas to guide you into a deep\, safe space. \nNo experience is necessary. \nWhat to wear and bring: \n\nComfy\, Warm Clothes\nWater\nYoga Mat (no worries if you don’t have one\, the studio provides them for free)\n\nOptional: \n\nA special item to cleanse or dedicate your journey: an item from nature\, a piece of jewelry\, a photo\, etc. Anything goes!\nEye pillow
URL:https://thriveyogacb.com/event/breathwork-journey-2/
LOCATION:Thrive Yoga Crested Butte\, 326 Elk Ave\, Crested Butte\, CO\, 81224\, United States
CATEGORIES:Breathwork
ATTACH;FMTTYPE=image/png:https://thriveyogacb.com/wp-content/uploads/2025/02/Breathwork-Journey-2.png
END:VEVENT
END:VCALENDAR