BEGIN:VCALENDAR
VERSION:2.0
PRODID:-//Thrive Yoga Crested Butte - ECPv6.15.20//NONSGML v1.0//EN
CALSCALE:GREGORIAN
METHOD:PUBLISH
X-WR-CALNAME:Thrive Yoga Crested Butte
X-ORIGINAL-URL:https://thriveyogacb.com
X-WR-CALDESC:Events for Thrive Yoga Crested Butte
REFRESH-INTERVAL;VALUE=DURATION:PT1H
X-Robots-Tag:noindex
X-PUBLISHED-TTL:PT1H
BEGIN:VTIMEZONE
TZID:America/Denver
BEGIN:DAYLIGHT
TZOFFSETFROM:-0700
TZOFFSETTO:-0600
TZNAME:MDT
DTSTART:20240310T090000
END:DAYLIGHT
BEGIN:STANDARD
TZOFFSETFROM:-0600
TZOFFSETTO:-0700
TZNAME:MST
DTSTART:20241103T080000
END:STANDARD
BEGIN:DAYLIGHT
TZOFFSETFROM:-0700
TZOFFSETTO:-0600
TZNAME:MDT
DTSTART:20250309T090000
END:DAYLIGHT
BEGIN:STANDARD
TZOFFSETFROM:-0600
TZOFFSETTO:-0700
TZNAME:MST
DTSTART:20251102T080000
END:STANDARD
BEGIN:DAYLIGHT
TZOFFSETFROM:-0700
TZOFFSETTO:-0600
TZNAME:MDT
DTSTART:20260308T090000
END:DAYLIGHT
BEGIN:STANDARD
TZOFFSETFROM:-0600
TZOFFSETTO:-0700
TZNAME:MST
DTSTART:20261101T080000
END:STANDARD
END:VTIMEZONE
BEGIN:VEVENT
DTSTART;TZID=America/Denver:20250329T140000
DTEND;TZID=America/Denver:20250329T160000
DTSTAMP:20260419T183747
CREATED:20250205T191141Z
LAST-MODIFIED:20250205T191634Z
UID:30000022-1743256800-1743264000@thriveyogacb.com
SUMMARY:Biofield Tuning Workshop
DESCRIPTION:Step into a transformative 2-hour workshop where ancient wisdom meets modern science! Together\, we’ll dive into the fascinating nature of your biofield – a powerful energy field that shapes your well-being – through the insights of spiritual traditions and cutting-edge physics. \nThis isn’t just theory; you’ll feel and experience your biofield firsthand through a group tuning session\, and gain new insights into its role in your life. Plus\, you’ll have the opportunity to share your discoveries in a supportive and inspiring space. \nReady to explore the unseen and unlock your potential?
URL:https://thriveyogacb.com/event/biofield-tuning-workshop/
LOCATION:Thrive Yoga Crested Butte\, 326 Elk Ave\, Crested Butte\, CO\, 81224\, United States
CATEGORIES:Biofield Tuning
ATTACH;FMTTYPE=image/png:https://thriveyogacb.com/wp-content/uploads/2025/02/Biofield-Tuning-Workshop.png
END:VEVENT
END:VCALENDAR