BEGIN:VCALENDAR
VERSION:2.0
PRODID:-//Thrive Yoga Crested Butte - ECPv6.15.20//NONSGML v1.0//EN
CALSCALE:GREGORIAN
METHOD:PUBLISH
X-ORIGINAL-URL:https://thriveyogacb.com
X-WR-CALDESC:Events for Thrive Yoga Crested Butte
REFRESH-INTERVAL;VALUE=DURATION:PT1H
X-Robots-Tag:noindex
X-PUBLISHED-TTL:PT1H
BEGIN:VTIMEZONE
TZID:America/Denver
BEGIN:DAYLIGHT
TZOFFSETFROM:-0700
TZOFFSETTO:-0600
TZNAME:MDT
DTSTART:20240310T090000
END:DAYLIGHT
BEGIN:STANDARD
TZOFFSETFROM:-0600
TZOFFSETTO:-0700
TZNAME:MST
DTSTART:20241103T080000
END:STANDARD
BEGIN:DAYLIGHT
TZOFFSETFROM:-0700
TZOFFSETTO:-0600
TZNAME:MDT
DTSTART:20250309T090000
END:DAYLIGHT
BEGIN:STANDARD
TZOFFSETFROM:-0600
TZOFFSETTO:-0700
TZNAME:MST
DTSTART:20251102T080000
END:STANDARD
BEGIN:DAYLIGHT
TZOFFSETFROM:-0700
TZOFFSETTO:-0600
TZNAME:MDT
DTSTART:20260308T090000
END:DAYLIGHT
BEGIN:STANDARD
TZOFFSETFROM:-0600
TZOFFSETTO:-0700
TZNAME:MST
DTSTART:20261101T080000
END:STANDARD
END:VTIMEZONE
BEGIN:VEVENT
DTSTART;TZID=America/Denver:20250331T190000
DTEND;TZID=America/Denver:20250331T200000
DTSTAMP:20260419T153259
CREATED:20250315T000044Z
LAST-MODIFIED:20250315T000044Z
UID:30000027-1743447600-1743451200@thriveyogacb.com
SUMMARY:Guided Plant Spirit Tea Meditation
DESCRIPTION:Join us for a unique and immersive meditation where we’ll connect with the essence of the Lemon Balm plant. Through guided meditation\, you’ll explore a deep\, intuitive relationship with this beloved herb\, whether you’re new to plant connection or have been working with plants for years. This practice offers a fun\, embodied way to engage with nature\, leaving you with tools to cultivate healing and connection in fresh\, meaningful ways. \nPlease bring a mug\, journal and pen!
URL:https://thriveyogacb.com/event/guided-plant-spirit-tea-meditation-4/
LOCATION:Thrive Yoga Crested Butte\, 326 Elk Ave\, Crested Butte\, CO\, 81224\, United States
CATEGORIES:Meditation
ATTACH;FMTTYPE=image/jpeg:https://thriveyogacb.com/wp-content/uploads/2025/03/Lemon-Balm-Plant-Guided-Plant-Spirit-Tea-Meditation.jpeg
ORGANIZER;CN="Thrive Yoga Crested Butte":MAILTO:info@staging.thriveyogacb.com
END:VEVENT
END:VCALENDAR