BEGIN:VCALENDAR
VERSION:2.0
PRODID:-//Thrive Yoga Crested Butte - ECPv6.15.20//NONSGML v1.0//EN
CALSCALE:GREGORIAN
METHOD:PUBLISH
X-ORIGINAL-URL:https://thriveyogacb.com
X-WR-CALDESC:Events for Thrive Yoga Crested Butte
REFRESH-INTERVAL;VALUE=DURATION:PT1H
X-Robots-Tag:noindex
X-PUBLISHED-TTL:PT1H
BEGIN:VTIMEZONE
TZID:America/Denver
BEGIN:DAYLIGHT
TZOFFSETFROM:-0700
TZOFFSETTO:-0600
TZNAME:MDT
DTSTART:20240310T090000
END:DAYLIGHT
BEGIN:STANDARD
TZOFFSETFROM:-0600
TZOFFSETTO:-0700
TZNAME:MST
DTSTART:20241103T080000
END:STANDARD
BEGIN:DAYLIGHT
TZOFFSETFROM:-0700
TZOFFSETTO:-0600
TZNAME:MDT
DTSTART:20250309T090000
END:DAYLIGHT
BEGIN:STANDARD
TZOFFSETFROM:-0600
TZOFFSETTO:-0700
TZNAME:MST
DTSTART:20251102T080000
END:STANDARD
BEGIN:DAYLIGHT
TZOFFSETFROM:-0700
TZOFFSETTO:-0600
TZNAME:MDT
DTSTART:20260308T090000
END:DAYLIGHT
BEGIN:STANDARD
TZOFFSETFROM:-0600
TZOFFSETTO:-0700
TZNAME:MST
DTSTART:20261101T080000
END:STANDARD
END:VTIMEZONE
BEGIN:VEVENT
DTSTART;TZID=America/Denver:20250512T190000
DTEND;TZID=America/Denver:20250512T201500
DTSTAMP:20260419T140001
CREATED:20250321T192444Z
LAST-MODIFIED:20250321T192527Z
UID:30000030-1747076400-1747080900@thriveyogacb.com
SUMMARY:Guided Plant Spirit Tea Meditation
DESCRIPTION:Take a moment to slow down and connect with the gentle spirit of the Linden plant through a guided meditation. This workshop offers a playful and embodied way to engage with herbs and plants—whether you’re new to plant connection or have been working with them for years. Leave with tools to deepen your relationship with plants and explore new pathways for healing. Please bring a mug\, journal\, and pen for reflection and integration.
URL:https://thriveyogacb.com/event/guided-plant-spirit-tea-meditation-5/
LOCATION:Thrive Yoga Crested Butte\, 326 Elk Ave\, Crested Butte\, CO\, 81224\, United States
CATEGORIES:Meditation
ATTACH;FMTTYPE=image/png:https://thriveyogacb.com/wp-content/uploads/2025/03/Guided-Plant-Spirit-Tea-Meditation.png
ORGANIZER;CN="Thrive Yoga Crested Butte":MAILTO:info@staging.thriveyogacb.com
END:VEVENT
END:VCALENDAR