BEGIN:VCALENDAR
VERSION:2.0
PRODID:-//Thrive Yoga Crested Butte - ECPv6.15.20//NONSGML v1.0//EN
CALSCALE:GREGORIAN
METHOD:PUBLISH
X-WR-CALNAME:Thrive Yoga Crested Butte
X-ORIGINAL-URL:https://thriveyogacb.com
X-WR-CALDESC:Events for Thrive Yoga Crested Butte
REFRESH-INTERVAL;VALUE=DURATION:PT1H
X-Robots-Tag:noindex
X-PUBLISHED-TTL:PT1H
BEGIN:VTIMEZONE
TZID:America/Denver
BEGIN:DAYLIGHT
TZOFFSETFROM:-0700
TZOFFSETTO:-0600
TZNAME:MDT
DTSTART:20250309T090000
END:DAYLIGHT
BEGIN:STANDARD
TZOFFSETFROM:-0600
TZOFFSETTO:-0700
TZNAME:MST
DTSTART:20251102T080000
END:STANDARD
BEGIN:DAYLIGHT
TZOFFSETFROM:-0700
TZOFFSETTO:-0600
TZNAME:MDT
DTSTART:20260308T090000
END:DAYLIGHT
BEGIN:STANDARD
TZOFFSETFROM:-0600
TZOFFSETTO:-0700
TZNAME:MST
DTSTART:20261101T080000
END:STANDARD
BEGIN:DAYLIGHT
TZOFFSETFROM:-0700
TZOFFSETTO:-0600
TZNAME:MDT
DTSTART:20270314T090000
END:DAYLIGHT
BEGIN:STANDARD
TZOFFSETFROM:-0600
TZOFFSETTO:-0700
TZNAME:MST
DTSTART:20271107T080000
END:STANDARD
END:VTIMEZONE
BEGIN:VEVENT
DTSTART;TZID=America/Denver:20260104T150000
DTEND;TZID=America/Denver:20260104T170000
DTSTAMP:20260420T003020
CREATED:20251217T200338Z
LAST-MODIFIED:20251217T200338Z
UID:30000075-1767538800-1767546000@thriveyogacb.com
SUMMARY:Therapeutic Yoga Workshop
DESCRIPTION:Therapeutic Yoga uses a methodic application of sequences to unwind fascial patterns of holding and pain in the body. Much of the work is floor-based and passive\, but that doesn’t mean it’s easy! This therapeutic style of yoga resets the nervous system\, opens the joints\, and releases patterns of restriction in the body\, using long holds and specific alignment. This is an all-levels class and everybody—athletes\, couch potatoes\, young and old\, will find this practice accessible and will benefit from it! \n 
URL:https://thriveyogacb.com/event/therapeutic-yoga-workshop-13/
LOCATION:Thrive Yoga Crested Butte\, 326 Elk Ave\, Crested Butte\, CO\, 81224\, United States
CATEGORIES:Yoga
ATTACH;FMTTYPE=image/jpeg:https://thriveyogacb.com/wp-content/uploads/2025/12/Therapeutic-Yoga-Workshop-Jan-2026.jpg
ORGANIZER;CN="Thrive Yoga Crested Butte":MAILTO:info@staging.thriveyogacb.com
END:VEVENT
BEGIN:VEVENT
DTSTART;TZID=America/Denver:20260111T150000
DTEND;TZID=America/Denver:20260111T170000
DTSTAMP:20260420T003020
CREATED:20251222T034358Z
LAST-MODIFIED:20251222T034421Z
UID:30000077-1768143600-1768150800@thriveyogacb.com
SUMMARY:Upper Body Bliss: A Yin Yoga Immersion
DESCRIPTION:This Yin yoga immersion class focuses on long held passive stretches that target the deep connective tissues to release tension\, improve mobility\, and soothe joints in the shoulder girdle\, arms\, and wrists. Designed to create freedom in the back and front of both shoulders\, open the heart\, and improve circulation along the arms into the wrists and fingers. \nFollowing this practice is a 30-minute custom yoga nidra meditation focused on the Anahata Chakra\, exploring themes of love\, compassion\, and connection – both for ourselves and others!
URL:https://thriveyogacb.com/event/upper-body-bliss-a-yin-yoga-immersion/
LOCATION:Thrive Yoga Crested Butte\, 326 Elk Ave\, Crested Butte\, CO\, 81224\, United States
CATEGORIES:Yoga
ATTACH;FMTTYPE=image/jpeg:https://thriveyogacb.com/wp-content/uploads/2025/12/49b02352-292b-4ac9-a42e-00a108e1b80e.jpg
ORGANIZER;CN="Thrive Yoga Crested Butte":MAILTO:info@staging.thriveyogacb.com
END:VEVENT
BEGIN:VEVENT
DTSTART;TZID=America/Denver:20260118T150000
DTEND;TZID=America/Denver:20260118T170000
DTSTAMP:20260420T003020
CREATED:20251205T161129Z
LAST-MODIFIED:20251222T202529Z
UID:30000070-1768748400-1768755600@thriveyogacb.com
SUMMARY:Creating Space in Stiff & Busy Bodies
DESCRIPTION:Life gets full and our bodies feel it. This month’s Kaiut workshop is all about softening tension\, opening space in the joints\, and reconnecting with a sense of ease. \nNo flexibility\, no experience\, and no “perfect poses” required. Show up exactly as you are. Together\, we’ll move slowly and intentionally\, creating comfort where the body feels tight or overworked\, and offering the nervous system a much-needed moment to settle. \nThis practice supports: \n\nTight or achy neck\, shoulders\, and hips\nStiffness from winter\, activity\, or sitting\nStress\, overwhelm\, or poor sleep\nInjury recovery or chronic tension\nAnyone wanting gentle\, grounded movement in a supportive space\n\nCome move gently\, breathe deeply\, and reconnect with yourself and your community. All bodies and all levels are truly welcome.
URL:https://thriveyogacb.com/event/creating-space-in-stiff-busy-bodies/
LOCATION:Thrive Yoga Crested Butte\, 326 Elk Ave\, Crested Butte\, CO\, 81224\, United States
CATEGORIES:Yoga
ATTACH;FMTTYPE=image/jpeg:https://thriveyogacb.com/wp-content/uploads/2025/12/Creating-Space-in-Stiff-Busy-Bodies-1.jpg
ORGANIZER;CN="Thrive Yoga Crested Butte":MAILTO:info@staging.thriveyogacb.com
END:VEVENT
BEGIN:VEVENT
DTSTART;TZID=America/Denver:20260208T150000
DTEND;TZID=America/Denver:20260208T170000
DTSTAMP:20260420T003020
CREATED:20251217T200628Z
LAST-MODIFIED:20251217T200705Z
UID:30000076-1770562800-1770570000@thriveyogacb.com
SUMMARY:Therapeutic Yoga Workshop
DESCRIPTION:Therapeutic Yoga uses a methodic application of sequences to unwind fascial patterns of holding and pain in the body. Much of the work is floor-based and passive\, but that doesn’t mean it’s easy! This therapeutic style of yoga resets the nervous system\, opens the joints\, and releases patterns of restriction in the body\, using long holds and specific alignment. This is an all-levels class and everybody—athletes\, couch potatoes\, young and old\, will find this practice accessible and will benefit from it!
URL:https://thriveyogacb.com/event/therapeutic-yoga-workshop-14/
LOCATION:Thrive Yoga Crested Butte\, 326 Elk Ave\, Crested Butte\, CO\, 81224\, United States
CATEGORIES:Yoga
ATTACH;FMTTYPE=image/jpeg:https://thriveyogacb.com/wp-content/uploads/2025/12/Therapeutic-Yoga-Workshop-Feb-2026.jpg
ORGANIZER;CN="Thrive Yoga Crested Butte":MAILTO:info@staging.thriveyogacb.com
END:VEVENT
BEGIN:VEVENT
DTSTART;TZID=America/Denver:20260215T150000
DTEND;TZID=America/Denver:20260215T170000
DTSTAMP:20260420T003020
CREATED:20251205T161647Z
LAST-MODIFIED:20251222T202537Z
UID:30000071-1771167600-1771174800@thriveyogacb.com
SUMMARY:Healing from the Inside Out
DESCRIPTION:Support your body’s natural healing intelligence. \nThrough slow\, stable postures and intentional pauses\, we work with the nervous system to reduce pain\, increase mobility\, and create long-lasting change. This class is perfect for anyone recovering from injuries\, living with chronic tension\, or simply wanting to feel more ease and strength in their body. \nIn this session\, we’ll explore: \n\nTherapeutic joint mobility\nGentle strengthening for support and stability\nNervous-system calming for mind-body balance\n\nVariations for all levels and abilities. \nYou don’t have to push hard to heal. You just have to begin by moving.
URL:https://thriveyogacb.com/event/healing-from-the-inside-out/
LOCATION:Thrive Yoga Crested Butte\, 326 Elk Ave\, Crested Butte\, CO\, 81224\, United States
CATEGORIES:Yoga
ATTACH;FMTTYPE=image/jpeg:https://thriveyogacb.com/wp-content/uploads/2025/12/Healing-from-the-Inside-Out.jpg
ORGANIZER;CN="Thrive Yoga Crested Butte":MAILTO:info@staging.thriveyogacb.com
END:VEVENT
BEGIN:VEVENT
DTSTART;TZID=America/Denver:20260222T150000
DTEND;TZID=America/Denver:20260222T170000
DTSTAMP:20260420T003020
CREATED:20251222T201909Z
LAST-MODIFIED:20251222T201909Z
UID:30000078-1771772400-1771779600@thriveyogacb.com
SUMMARY:Deep Release for Happy Hips: A Yin Yoga Immersion
DESCRIPTION:This series of long-held\, passive stretches targets the deep connective tissues in the hips. We will move the femurs in the hip sockets through all six primary directions of movement to cultivate an experience of freedom; this also provides a subtle but powerful release of tension throughout the hip anatomy. Designed to improve flexibility\, release tightness\, and relieve hip and lower back pain. \nCorrelating to the hips\, we will finish this series with a custom 30-minute yoga nidra meditation to balance the Sacral Chakra\, designed to cultivate creativity\, pleasure\, and joy.
URL:https://thriveyogacb.com/event/deep-release-for-happy-hips-a-yin-yoga-immersion/
LOCATION:Thrive Yoga Crested Butte\, 326 Elk Ave\, Crested Butte\, CO\, 81224\, United States
CATEGORIES:Yoga
ATTACH;FMTTYPE=image/jpeg:https://thriveyogacb.com/wp-content/uploads/2025/12/Deep-Release-for-Happy-Hips-A-Yin-Yoga-Immersion.jpg
ORGANIZER;CN="Thrive Yoga Crested Butte":MAILTO:info@staging.thriveyogacb.com
END:VEVENT
BEGIN:VEVENT
DTSTART;TZID=America/Denver:20260301T150000
DTEND;TZID=America/Denver:20260301T170000
DTSTAMP:20260420T003020
CREATED:20251205T160627Z
LAST-MODIFIED:20251222T202546Z
UID:30000069-1772377200-1772384400@thriveyogacb.com
SUMMARY:Stillness as Medicine
DESCRIPTION:Experience the quiet power of stillness. \nIn this gentle Kaiut session\, we emphasize parasympathetic nervous system activation\, mindful breathing\, and supportive postures. The focus is on deep rest and subtle movements that leave you feeling spacious\, calm\, and rejuvenated. \nIn this session\, we’ll explore: \n\nRestorative postures for nervous-system balance\nBreath-guided awareness to ease tension\nGentle mobility that supports all joints\n\nTime for stillness\, reflection\, and deep relaxation. \nSlow down\, settle in\, and let stillness be your medicine.
URL:https://thriveyogacb.com/event/stillness-as-medicine/
LOCATION:Thrive Yoga Crested Butte\, 326 Elk Ave\, Crested Butte\, CO\, 81224\, United States
CATEGORIES:Yoga
ATTACH;FMTTYPE=image/jpeg:https://thriveyogacb.com/wp-content/uploads/2025/12/Stillness-as-Medicine.jpg
ORGANIZER;CN="Thrive Yoga Crested Butte":MAILTO:info@staging.thriveyogacb.com
END:VEVENT
BEGIN:VEVENT
DTSTART;TZID=America/Denver:20260308T150000
DTEND;TZID=America/Denver:20260308T170000
DTSTAMP:20260420T003020
CREATED:20251213T012358Z
LAST-MODIFIED:20251213T012508Z
UID:30000072-1772982000-1772989200@thriveyogacb.com
SUMMARY:Therapeutic Yoga Workshop
DESCRIPTION:Therapeutic Yoga uses a methodic application of sequences to unwind fascial patterns of holding and pain in the body. Much of the work is floor-based and passive\, but that doesn’t mean it’s easy! This therapeutic style of yoga resets the nervous system\, opens the joints\, and releases patterns of restriction in the body\, using long holds and specific alignment. This is an all-levels class and everybody—athletes\, couch potatoes\, young and old\, will find this practice accessible and will benefit from it!
URL:https://thriveyogacb.com/event/therapeutic-yoga-workshop-12/
LOCATION:Thrive Yoga Crested Butte\, 326 Elk Ave\, Crested Butte\, CO\, 81224\, United States
CATEGORIES:Yoga
ATTACH;FMTTYPE=image/png:https://thriveyogacb.com/wp-content/uploads/2025/03/Therapeutic-Yoga-Workshop-April-2025.png
ORGANIZER;CN="Thrive Yoga Crested Butte":MAILTO:info@staging.thriveyogacb.com
END:VEVENT
BEGIN:VEVENT
DTSTART;TZID=America/Denver:20260322T150000
DTEND;TZID=America/Denver:20260322T170000
DTSTAMP:20260420T003020
CREATED:20251222T202205Z
LAST-MODIFIED:20251222T202205Z
UID:30000079-1774191600-1774198800@thriveyogacb.com
SUMMARY:Front Body Freedom: A Yin Yoga Immersion
DESCRIPTION:Yin Yoga for the front body targets the deep connective tissue in the chest\, abdomen\, and hips using passive\, long held stretches to release tension\, improve posture\, and open the heart. This afternoon immersion aims to counteract the effects of activating the psoas\, hip flexors\, and quadriceps continually. If you work a desk job and/or are an active sportsperson\, this is ideal for you! \nAccompanying this session is a custom 30-minute yoga nidra meditation focused on the Manipura chakra\, exploring themes of willpower to cultivate a sense of empowerment\, confidence\, and motivation.
URL:https://thriveyogacb.com/event/front-body-freedom-a-yin-yoga-immersion/
LOCATION:Thrive Yoga Crested Butte\, 326 Elk Ave\, Crested Butte\, CO\, 81224\, United States
CATEGORIES:Yoga
ATTACH;FMTTYPE=image/jpeg:https://thriveyogacb.com/wp-content/uploads/2025/12/Front-Body-Freedom-A-Yin-Yoga-Immersion.jpg
ORGANIZER;CN="Thrive Yoga Crested Butte":MAILTO:info@staging.thriveyogacb.com
END:VEVENT
BEGIN:VEVENT
DTSTART;TZID=America/Denver:20260402T190000
DTEND;TZID=America/Denver:20260402T201500
DTSTAMP:20260420T003020
CREATED:20260306T010309Z
LAST-MODIFIED:20260309T191627Z
UID:30000090-1775156400-1775160900@thriveyogacb.com
SUMMARY:Peace of Mind Practice
DESCRIPTION:Breath • Meditation • Gentle Flow \nThe Peace of Mind Practice is a nurturing\, down-regulating class designed to support mental health\, emotional steadiness\, and resilience in everyday life. Together we’ll move slowly and intentionally through gentle\, mindful yoga\, paired with calming breath practices that help settle the nervous system and soften stress in the body. This is the kind of practice that reminds you: you don’t have to “push” to feel better — you can return to center through presence\, breath\, and simplicity. \nWe’ll begin with grounding breathwork to ease anxiety\, steady the mind\, and create space inside. From there\, you’ll be guided through a gentle flow focused on releasing tension\, improving circulation\, and reconnecting with the supportive strength beneath you. We’ll close with a short meditation to integrate the practice and leave you feeling clearer\, calmer\, and more anchored from within. \nThis class is accessible for most bodies and experience levels. Come exactly as you are — tender\, tired\, full\, or overwhelmed — and let this be an hour of coming home to yourself. \nOffered as a donation-based class\, benefiting CB State of Mind.
URL:https://thriveyogacb.com/event/peace-of-mind-practice/
LOCATION:Thrive Yoga Crested Butte\, 326 Elk Ave\, Crested Butte\, CO\, 81224\, United States
CATEGORIES:Yoga
ATTACH;FMTTYPE=image/jpeg:https://thriveyogacb.com/wp-content/uploads/2026/03/5022b711-b662-4d02-99ff-5169d38e5784.jpg
ORGANIZER;CN="Thrive Yoga Crested Butte":MAILTO:info@staging.thriveyogacb.com
END:VEVENT
BEGIN:VEVENT
DTSTART;TZID=America/Denver:20260403T190000
DTEND;TZID=America/Denver:20260403T210000
DTSTAMP:20260420T003020
CREATED:20260323T223816Z
LAST-MODIFIED:20260331T231238Z
UID:30000103-1775242800-1775250000@thriveyogacb.com
SUMMARY:Thai Yoga Massage Partner Class
DESCRIPTION:Relaxation\, Connection & Play! \nIn this class you will be guided through giving & receiving a gentle and relaxing Thai Yoga Massage sequence. TYM is an ancient healing art with roots in yoga\, Ayurveda and Buddhism. A wonderful way to restore the body\, ease the mind and reconnect us to one another through the simple power of presence & healing touch. \nSaul brings 30 years of practice and teaching to this work\, and will guide you through it with care\, making it accessible and enjoyable for all. \nAll yogi’s and non-yogis welcome. No experience necessary. Please bring a friend or beloved to work with. If you cannot\, we will try to pair you with another single.
URL:https://thriveyogacb.com/event/thai-yoga-massage-partner-class/
LOCATION:Thrive Yoga Crested Butte\, 326 Elk Ave\, Crested Butte\, CO\, 81224\, United States
CATEGORIES:Yoga
ATTACH;FMTTYPE=image/jpeg:https://thriveyogacb.com/wp-content/uploads/2026/03/Thai-Yoga-Massage-Partner-Class.jpg
ORGANIZER;CN="Thrive Yoga Crested Butte":MAILTO:info@staging.thriveyogacb.com
END:VEVENT
BEGIN:VEVENT
DTSTART;TZID=America/Denver:20260407T084500
DTEND;TZID=America/Denver:20260407T100000
DTSTAMP:20260420T003020
CREATED:20260306T010457Z
LAST-MODIFIED:20260309T221634Z
UID:30000091-1775551500-1775556000@thriveyogacb.com
SUMMARY:Bhakti Vinyasa
DESCRIPTION:Bhakti Vinyasa is a soulful\, heart-opening flow rooted in love\, celebration\, and devotion. Through mantra\, breath\, and rhythmic movement\, we’ll weave body prayer into a dynamic all levels vinyasa practice set to inspiring music. This class invites you to move from the heart\, awaken gratitude\, and return to yoga as an offering. Come ready to flow\, sing\, and soften into devotion.
URL:https://thriveyogacb.com/event/bhakti-vinyasa/
LOCATION:Thrive Yoga Crested Butte\, 326 Elk Ave\, Crested Butte\, CO\, 81224\, United States
CATEGORIES:Yoga
ATTACH;FMTTYPE=image/jpeg:https://thriveyogacb.com/wp-content/uploads/2026/03/Monica-Mesa-Dasi-Bhakti-Vinyasa.jpg
ORGANIZER;CN="Thrive Yoga Crested Butte":MAILTO:info@staging.thriveyogacb.com
END:VEVENT
BEGIN:VEVENT
DTSTART;TZID=America/Denver:20260425T170000
DTEND;TZID=America/Denver:20260425T183000
DTSTAMP:20260420T003020
CREATED:20260323T164548Z
LAST-MODIFIED:20260323T164548Z
UID:30000100-1777136400-1777141800@thriveyogacb.com
SUMMARY:Feldenkrais Workshop: An Introduction to Awareness through Movement
DESCRIPTION:The Feldenkrais Method is a self discovery process done through movement. Its aim is to produce an individual organized to perform with maximum efficiency and minimum effort. Awareness through movement classes lead people through a series of movements that are simple\, gentle\, exploratory\, pleasant\, and fun. The movements are designed to help clarify functions in the body (i.e. breathing\, reaching\, bending\, or something more complex).
URL:https://thriveyogacb.com/event/feldenkrais-workshop-an-introduction-to-awareness-through-movement-2/
LOCATION:Thrive Yoga Crested Butte\, 326 Elk Ave\, Crested Butte\, CO\, 81224\, United States
CATEGORIES:Yoga
ATTACH;FMTTYPE=image/jpeg:https://thriveyogacb.com/wp-content/uploads/2026/03/Feldenkrais-Workshop-An-Introduction-to-Awareness-through-Movement-1.jpg
ORGANIZER;CN="Thrive Yoga Crested Butte":MAILTO:info@staging.thriveyogacb.com
END:VEVENT
BEGIN:VEVENT
DTSTART;TZID=America/Denver:20260503T150000
DTEND;TZID=America/Denver:20260503T170000
DTSTAMP:20260420T003020
CREATED:20260331T185747Z
LAST-MODIFIED:20260331T185802Z
UID:30000104-1777820400-1777827600@thriveyogacb.com
SUMMARY:Therapeutic Yoga Workshop
DESCRIPTION:Therapeutic Yoga uses a methodic application of sequences to unwind fascial patterns of holding and pain in the body. Much of the work is floor-based and passive\, but that doesn’t mean it’s easy! This therapeutic style of yoga resets the nervous system\, opens the joints\, and releases patterns of restriction in the body\, using long holds and specific alignment. This is an all-levels class and everybody—athletes\, couch potatoes\, young and old\, will find this practice accessible and will benefit from it!
URL:https://thriveyogacb.com/event/therapeutic-yoga-workshop-15/
LOCATION:Thrive Yoga Crested Butte\, 326 Elk Ave\, Crested Butte\, CO\, 81224\, United States
CATEGORIES:Yoga
ATTACH;FMTTYPE=image/jpeg:https://thriveyogacb.com/wp-content/uploads/2025/05/Therapeutic-Yoga-Workshop_July-2025.jpg
ORGANIZER;CN="Thrive Yoga Crested Butte":MAILTO:info@staging.thriveyogacb.com
END:VEVENT
BEGIN:VEVENT
DTSTART;TZID=America/Denver:20260509T170000
DTEND;TZID=America/Denver:20260509T183000
DTSTAMP:20260420T003020
CREATED:20260319T221248Z
LAST-MODIFIED:20260319T221248Z
UID:30000099-1778346000-1778351400@thriveyogacb.com
SUMMARY:Feldenkrais for Freeing the Voice
DESCRIPTION:Open your Ribcage and Free your Exhale \nIn this workshop we will go through a sensory based movement experience to bring awareness and freedom to the ribcage for allowing a steady\, smooth and full exhalation. Find more relaxation and power in your body and voice. A great experience for singers\, athletes and anyone who wants to feel more freedom in their bodies.
URL:https://thriveyogacb.com/event/feldenkrais-for-freeing-the-voice/
LOCATION:Thrive Yoga Crested Butte\, 326 Elk Ave\, Crested Butte\, CO\, 81224\, United States
CATEGORIES:Yoga
ATTACH;FMTTYPE=image/jpeg:https://thriveyogacb.com/wp-content/uploads/2026/03/Feldenkrais-for-Freeing-the-Voice.jpg
ORGANIZER;CN="Thrive Yoga Crested Butte":MAILTO:info@staging.thriveyogacb.com
END:VEVENT
BEGIN:VEVENT
DTSTART;TZID=America/Denver:20260524T150000
DTEND;TZID=America/Denver:20260524T170000
DTSTAMP:20260420T003020
CREATED:20260309T193428Z
LAST-MODIFIED:20260309T193428Z
UID:30000092-1779634800-1779642000@thriveyogacb.com
SUMMARY:Kaiut Yoga Masterclass
DESCRIPTION:Please join Alex Lambro\, owner of Kaiut Yoga Crested Butte\, in partnership with Thrive Yoga Crested Butte for a meaningful therapeutic yoga experience. \nThis immersive two-hour intensive is designed to help you move with greater ease\, reduce physical discomfort\, and deepen your understanding of how your body truly functions. Rooted in principles of neuroplasticity and neurological regeneration\, the practice supports the body’s natural ability to restore movement\, resilience\, and vitality. \nThrough countless hours of annual teacher trainings\, intensives\, and yearly ongoing studies in Brazil with creator Francisco Kaiut\, Alex returns home with the most current\, accurate insights to thoughtfully share with her students. \nThis is an opportunity to experience the Kaiut Yoga Method directly with one of its leading voices in an environment created for learning\, presence\, and lasting transformation: physically\, mentally\, and emotionally.
URL:https://thriveyogacb.com/event/kaiut-yoga-masterclass/
LOCATION:Thrive Yoga Crested Butte\, 326 Elk Ave\, Crested Butte\, CO\, 81224\, United States
CATEGORIES:Yoga
ATTACH;FMTTYPE=image/jpeg:https://thriveyogacb.com/wp-content/uploads/2026/03/Kaiut-Yoga-Masterclasses-2026.jpg
ORGANIZER;CN="Thrive Yoga Crested Butte":MAILTO:info@staging.thriveyogacb.com
END:VEVENT
BEGIN:VEVENT
DTSTART;TZID=America/Denver:20260607T150000
DTEND;TZID=America/Denver:20260607T170000
DTSTAMP:20260420T003020
CREATED:20260331T190347Z
LAST-MODIFIED:20260331T190347Z
UID:30000105-1780844400-1780851600@thriveyogacb.com
SUMMARY:Therapeutic Yoga Workshop
DESCRIPTION:Therapeutic Yoga uses a methodic application of sequences to unwind fascial patterns of holding and pain in the body. Much of the work is floor-based and passive\, but that doesn’t mean it’s easy! This therapeutic style of yoga resets the nervous system\, opens the joints\, and releases patterns of restriction in the body\, using long holds and specific alignment. This is an all-levels class and everybody—athletes\, couch potatoes\, young and old\, will find this practice accessible and will benefit from it!
URL:https://thriveyogacb.com/event/therapeutic-yoga-workshop-16/
LOCATION:Thrive Yoga Crested Butte\, 326 Elk Ave\, Crested Butte\, CO\, 81224\, United States
CATEGORIES:Yoga
ATTACH;FMTTYPE=image/jpeg:https://thriveyogacb.com/wp-content/uploads/2025/05/Therapeutic-Yoga-Workshop_July-2025.jpg
ORGANIZER;CN="Thrive Yoga Crested Butte":MAILTO:info@staging.thriveyogacb.com
END:VEVENT
BEGIN:VEVENT
DTSTART;TZID=America/Denver:20260614T150000
DTEND;TZID=America/Denver:20260614T170000
DTSTAMP:20260420T003020
CREATED:20260309T193546Z
LAST-MODIFIED:20260309T193546Z
UID:30000093-1781449200-1781456400@thriveyogacb.com
SUMMARY:Kaiut Yoga Masterclass
DESCRIPTION:Please join Alex Lambro\, owner of Kaiut Yoga Crested Butte\, in partnership with Thrive Yoga Crested Butte for a meaningful therapeutic yoga experience. \nThis immersive two-hour intensive is designed to help you move with greater ease\, reduce physical discomfort\, and deepen your understanding of how your body truly functions. Rooted in principles of neuroplasticity and neurological regeneration\, the practice supports the body’s natural ability to restore movement\, resilience\, and vitality. \nThrough countless hours of annual teacher trainings\, intensives\, and yearly ongoing studies in Brazil with creator Francisco Kaiut\, Alex returns home with the most current\, accurate insights to thoughtfully share with her students. \nThis is an opportunity to experience the Kaiut Yoga Method directly with one of its leading voices in an environment created for learning\, presence\, and lasting transformation: physically\, mentally\, and emotionally.
URL:https://thriveyogacb.com/event/kaiut-yoga-masterclass-2/
LOCATION:Thrive Yoga Crested Butte\, 326 Elk Ave\, Crested Butte\, CO\, 81224\, United States
CATEGORIES:Yoga
ATTACH;FMTTYPE=image/jpeg:https://thriveyogacb.com/wp-content/uploads/2026/03/Kaiut-Yoga-Masterclasses-2026.jpg
ORGANIZER;CN="Thrive Yoga Crested Butte":MAILTO:info@staging.thriveyogacb.com
END:VEVENT
BEGIN:VEVENT
DTSTART;TZID=America/Denver:20260712T150000
DTEND;TZID=America/Denver:20260712T170000
DTSTAMP:20260420T003020
CREATED:20260309T224130Z
LAST-MODIFIED:20260309T224130Z
UID:30000095-1783868400-1783875600@thriveyogacb.com
SUMMARY:Kaiut Yoga Masterclass
DESCRIPTION:Please join Alex Lambro\, owner of Kaiut Yoga Crested Butte\, in partnership with Thrive Yoga Crested Butte for a meaningful therapeutic yoga experience. \nThis immersive two-hour intensive is designed to help you move with greater ease\, reduce physical discomfort\, and deepen your understanding of how your body truly functions. Rooted in principles of neuroplasticity and neurological regeneration\, the practice supports the body’s natural ability to restore movement\, resilience\, and vitality. \nThrough countless hours of annual teacher trainings\, intensives\, and yearly ongoing studies in Brazil with creator Francisco Kaiut\, Alex returns home with the most current\, accurate insights to thoughtfully share with her students. \nThis is an opportunity to experience the Kaiut Yoga Method directly with one of its leading voices in an environment created for learning\, presence\, and lasting transformation: physically\, mentally\, and emotionally.
URL:https://thriveyogacb.com/event/kaiut-yoga-masterclass-3/
LOCATION:Thrive Yoga Crested Butte\, 326 Elk Ave\, Crested Butte\, CO\, 81224\, United States
CATEGORIES:Yoga
ATTACH;FMTTYPE=image/jpeg:https://thriveyogacb.com/wp-content/uploads/2026/03/Kaiut-Yoga-Masterclasses-2026.jpg
ORGANIZER;CN="Thrive Yoga Crested Butte":MAILTO:info@staging.thriveyogacb.com
END:VEVENT
BEGIN:VEVENT
DTSTART;TZID=America/Denver:20260816T150000
DTEND;TZID=America/Denver:20260816T170000
DTSTAMP:20260420T003020
CREATED:20260309T224705Z
LAST-MODIFIED:20260309T224801Z
UID:30000097-1786892400-1786899600@thriveyogacb.com
SUMMARY:Kaiut Yoga Masterclass
DESCRIPTION:Please join Alex Lambro\, owner of Kaiut Yoga Crested Butte\, in partnership with Thrive Yoga Crested Butte for a meaningful therapeutic yoga experience. \nThis immersive two-hour intensive is designed to help you move with greater ease\, reduce physical discomfort\, and deepen your understanding of how your body truly functions. Rooted in principles of neuroplasticity and neurological regeneration\, the practice supports the body’s natural ability to restore movement\, resilience\, and vitality. \nThrough countless hours of annual teacher trainings\, intensives\, and yearly ongoing studies in Brazil with creator Francisco Kaiut\, Alex returns home with the most current\, accurate insights to thoughtfully share with her students. \nThis is an opportunity to experience the Kaiut Yoga Method directly with one of its leading voices in an environment created for learning\, presence\, and lasting transformation: physically\, mentally\, and emotionally.
URL:https://thriveyogacb.com/event/kaiut-yoga-masterclass-4/
LOCATION:Thrive Yoga Crested Butte\, 326 Elk Ave\, Crested Butte\, CO\, 81224\, United States
CATEGORIES:Yoga
ATTACH;FMTTYPE=image/jpeg:https://thriveyogacb.com/wp-content/uploads/2026/03/Kaiut-Yoga-Masterclass-summer-2026.jpg
ORGANIZER;CN="Thrive Yoga Crested Butte":MAILTO:info@staging.thriveyogacb.com
END:VEVENT
BEGIN:VEVENT
DTSTART;TZID=America/Denver:20260920T150000
DTEND;TZID=America/Denver:20260920T170000
DTSTAMP:20260420T003020
CREATED:20260309T224751Z
LAST-MODIFIED:20260309T224751Z
UID:30000098-1789916400-1789923600@thriveyogacb.com
SUMMARY:Kaiut Yoga Masterclass
DESCRIPTION:Please join Alex Lambro\, owner of Kaiut Yoga Crested Butte\, in partnership with Thrive Yoga Crested Butte for a meaningful therapeutic yoga experience. \nThis immersive two-hour intensive is designed to help you move with greater ease\, reduce physical discomfort\, and deepen your understanding of how your body truly functions. Rooted in principles of neuroplasticity and neurological regeneration\, the practice supports the body’s natural ability to restore movement\, resilience\, and vitality. \nThrough countless hours of annual teacher trainings\, intensives\, and yearly ongoing studies in Brazil with creator Francisco Kaiut\, Alex returns home with the most current\, accurate insights to thoughtfully share with her students. \nThis is an opportunity to experience the Kaiut Yoga Method directly with one of its leading voices in an environment created for learning\, presence\, and lasting transformation: physically\, mentally\, and emotionally.
URL:https://thriveyogacb.com/event/kaiut-yoga-masterclass-5/
LOCATION:Thrive Yoga Crested Butte\, 326 Elk Ave\, Crested Butte\, CO\, 81224\, United States
CATEGORIES:Yoga
ATTACH;FMTTYPE=image/jpeg:https://thriveyogacb.com/wp-content/uploads/2026/03/Kaiut-Yoga-Masterclass-summer-2026.jpg
ORGANIZER;CN="Thrive Yoga Crested Butte":MAILTO:info@staging.thriveyogacb.com
END:VEVENT
END:VCALENDAR