BEGIN:VCALENDAR
VERSION:2.0
PRODID:-//Thrive Yoga Crested Butte - ECPv6.15.20//NONSGML v1.0//EN
CALSCALE:GREGORIAN
METHOD:PUBLISH
X-WR-CALNAME:Thrive Yoga Crested Butte
X-ORIGINAL-URL:https://thriveyogacb.com
X-WR-CALDESC:Events for Thrive Yoga Crested Butte
REFRESH-INTERVAL;VALUE=DURATION:PT1H
X-Robots-Tag:noindex
X-PUBLISHED-TTL:PT1H
BEGIN:VTIMEZONE
TZID:America/Denver
BEGIN:DAYLIGHT
TZOFFSETFROM:-0700
TZOFFSETTO:-0600
TZNAME:MDT
DTSTART:20240310T090000
END:DAYLIGHT
BEGIN:STANDARD
TZOFFSETFROM:-0600
TZOFFSETTO:-0700
TZNAME:MST
DTSTART:20241103T080000
END:STANDARD
BEGIN:DAYLIGHT
TZOFFSETFROM:-0700
TZOFFSETTO:-0600
TZNAME:MDT
DTSTART:20250309T090000
END:DAYLIGHT
BEGIN:STANDARD
TZOFFSETFROM:-0600
TZOFFSETTO:-0700
TZNAME:MST
DTSTART:20251102T080000
END:STANDARD
BEGIN:DAYLIGHT
TZOFFSETFROM:-0700
TZOFFSETTO:-0600
TZNAME:MDT
DTSTART:20260308T090000
END:DAYLIGHT
BEGIN:STANDARD
TZOFFSETFROM:-0600
TZOFFSETTO:-0700
TZNAME:MST
DTSTART:20261101T080000
END:STANDARD
END:VTIMEZONE
BEGIN:VEVENT
DTSTART;TZID=America/Denver:20250202T150000
DTEND;TZID=America/Denver:20250202T170000
DTSTAMP:20260419T183749
CREATED:20250120T082107Z
LAST-MODIFIED:20250121T002132Z
UID:30000012-1738508400-1738515600@thriveyogacb.com
SUMMARY:Iyengar Yoga Winter Workshop Series: Iyengar Back Bends: Open\, Strengthen\, Uplift
DESCRIPTION:Experience the energizing and chest-opening potential of back bends in this Iyengar yoga workshop. With a focus on shoulder and chest opening\, balanced by lower back stability\, you will explore a blend of active and passive back bends designed to awaken and uplift both body and mind. \nJoin us for a transformative session that inspires confidence\, elevates the spirit\, and leaves you feeling both grounded and uplifted.
URL:https://thriveyogacb.com/event/iyengar-yoga-winter-workshop-series-iyengar-back-bends-open-strengthen-uplift/
LOCATION:Thrive Yoga Crested Butte\, 326 Elk Ave\, Crested Butte\, CO\, 81224\, United States
CATEGORIES:Yoga
ATTACH;FMTTYPE=image/png:https://thriveyogacb.com/wp-content/uploads/2025/01/a8d04b80-7160-49e8-8365-e95d4464c615.png
END:VEVENT
BEGIN:VEVENT
DTSTART;TZID=America/Denver:20250204T190000
DTEND;TZID=America/Denver:20250204T200000
DTSTAMP:20260419T183750
CREATED:20250120T082223Z
LAST-MODIFIED:20250120T085503Z
UID:30000013-1738695600-1738699200@thriveyogacb.com
SUMMARY:Free Sound Bath
DESCRIPTION:We invite you to a deep and relaxing sound bath. Kevin will begin the evening with autogenic relaxation that uses the Power of the Mind to relax the body. Use the mind to undo the mind. By “coming from within” we can invite ourselves to open and find the space between the notes\, between the thoughts\, through the gifts of vibration created by the sound of the gong and singing bowls. \nThis event is co-sponsored by CB State of Mind and Axis Health and hosted at Thrive Yoga Crested Butte.
URL:https://thriveyogacb.com/event/free-sound-bath/
LOCATION:Thrive Yoga Crested Butte\, 326 Elk Ave\, Crested Butte\, CO\, 81224\, United States
CATEGORIES:Sound Bath
ATTACH;FMTTYPE=image/png:https://thriveyogacb.com/wp-content/uploads/2025/01/2025-02-4-2.png
END:VEVENT
BEGIN:VEVENT
DTSTART;TZID=America/Denver:20250208T100000
DTEND;TZID=America/Denver:20250208T110000
DTSTAMP:20260419T183750
CREATED:20250120T081350Z
LAST-MODIFIED:20250121T001340Z
UID:30000008-1739008800-1739012400@thriveyogacb.com
SUMMARY:Yoga at Magic Meadows Yurt
DESCRIPTION:Join our Thrive Yoga Teachers for a short ski or snowshoe to Magic Meadows Yurt followed by a fireside yoga practice. \n10:00-11:00am on Saturdays January 25\, February 8\, March 1 and March 8 \nLimited to 10 Students/Class\nIncludes: Fireside Yoga\, Mat and Nordic Trail Day Pass \nDoes not include rental gear! \nIf you would like to ski or snowshoe to the yurt with the teacher\, please meet at the Gronk on Peanut Lake Road by 9am. Plan ahead for time to collect your gear\, parking and walking to the trailhead\, please. If you prefer to meet at the Yurt\, please be there by 9:45am.
URL:https://thriveyogacb.com/event/yoga-at-magic-meadows-yurt-2/
LOCATION:Magic Meadows Yurt\, 1599-501 Peanut Lake Rd\, Crested Butte\, CO\, 81224\, United States
CATEGORIES:Yoga
ATTACH;FMTTYPE=image/png:https://thriveyogacb.com/wp-content/uploads/2025/01/cb8ce1d0-1b1e-463b-b778-5d598f30764b.png
ORGANIZER;CN="Thrive Yoga Crested Butte":MAILTO:info@staging.thriveyogacb.com
END:VEVENT
BEGIN:VEVENT
DTSTART;TZID=America/Denver:20250212T133000
DTEND;TZID=America/Denver:20250212T153000
DTSTAMP:20260419T183750
CREATED:20250120T082533Z
LAST-MODIFIED:20250121T002116Z
UID:30000015-1739367000-1739374200@thriveyogacb.com
SUMMARY:LYT Method Workshop Series The Super Psoas
DESCRIPTION:Get to know this amazing muscle that does so much more than flex the hip! Did you\nknow it attaches to your lower spine\, and pierces through your diaphragm! We often\nfeel it is tight\, but that does not necessarily mean it is strong. \nIf we sit a lot\, it is chronically in a passive\, shortened position\, which does indeed restrict it’s pliability. However leaning on and passively stretching your psoas\, say in a lizard/low lunge pose\, hasn’t proven to be a long term solution. Come to this workshop and find out why not and explore a possible better solution.
URL:https://thriveyogacb.com/event/lyt-method-workshop-series-the-super-psoas/
LOCATION:Thrive Yoga Crested Butte\, 326 Elk Ave\, Crested Butte\, CO\, 81224\, United States
CATEGORIES:Yoga
ATTACH;FMTTYPE=image/png:https://thriveyogacb.com/wp-content/uploads/2025/01/LYT-Method-Workshop-Series-The-Super-Psoas.png
END:VEVENT
BEGIN:VEVENT
DTSTART;TZID=America/Denver:20250215T170000
DTEND;TZID=America/Denver:20250215T181500
DTSTAMP:20260419T183750
CREATED:20250122T175426Z
LAST-MODIFIED:20250122T175426Z
UID:30000021-1739638800-1739643300@thriveyogacb.com
SUMMARY:Swing into Love: A Valentine's Hammock Yoga Experience
DESCRIPTION:This Valentine’s Day\, embrace a unique experience that lifts your spirit and energizes your body. Swing into Love offers a special hammock yoga class\, designed to help you explore the freedom of movement and the joy of weightlessness. Whether you’re sharing the experience with a partner or enjoying it solo\, this class will leave you feeling refreshed and inspired. \nMove through gentle stretches\, flowing sequences\, and inversions that allow you to connect with your body in a whole new way. You’ll enjoy a supportive environment where you can relax\, explore\, and feel truly uplifted. \nPerfect for couples looking to strengthen their bond or individuals seeking a rejuvenating solo practice\, Swing into Love is a celebration of movement and connection. Join us and experience the joy of flight!
URL:https://thriveyogacb.com/event/swing-into-love-a-valentines-hammock-yoga-experience/
LOCATION:Thrive Yoga Crested Butte\, 326 Elk Ave\, Crested Butte\, CO\, 81224\, United States
ATTACH;FMTTYPE=image/jpeg:https://thriveyogacb.com/wp-content/uploads/2025/01/Swing-into-Love-A-Valentines-Hammock-Yoga-Experience.jpg
END:VEVENT
BEGIN:VEVENT
DTSTART;TZID=America/Denver:20250216T150000
DTEND;TZID=America/Denver:20250216T170000
DTSTAMP:20260419T183750
CREATED:20250120T082356Z
LAST-MODIFIED:20250207T151336Z
UID:30000014-1739718000-1739725200@thriveyogacb.com
SUMMARY:Therapeutic Yoga Workshop
DESCRIPTION:Date changed from 2/9 to 2/16 \nIn this workshop we will move slowly through a two hour practice based on the principles of therapeutic yoga – using a methodic application of sequences to unwind fascial patterns of holding and pain in the body. \nMuch of the work is floor-based and passive\, but that doesn’t mean it’s easy! This therapeutic style of yoga resets the nervous system\, opens the joints\, and releases patterns of restriction in the body\, using long holds and specific alignment. This is an all-levels class\, and everybody – athletes\, couch potatoes\, young and old\, will find this practice accessible and will benefit from it. \nThis method works deeply with the joints\, to return the body to its optimal structure and function\, thereby allowing the internal systems to work as efficiently as possible for as long as possible – anti-aging yoga from the inside out. By focusing on the joints instead of stretching the muscles\, practitioners can work with the cause behind the symptom. \nThis inclusive workshop uses simple shapes to create a yoga format accessible to all practitioners regardless of flexibility\, strength\, age\, or experience\, and is intended to restore true freedom of movement to the body\, and in turn\, the mind!
URL:https://thriveyogacb.com/event/therapeutic-yoga-workshop-3/
LOCATION:Thrive Yoga Crested Butte\, 326 Elk Ave\, Crested Butte\, CO\, 81224\, United States
CATEGORIES:Yoga
ATTACH;FMTTYPE=image/png:https://thriveyogacb.com/wp-content/uploads/2025/01/Therapeutic-Yoga-Workshop.png
END:VEVENT
BEGIN:VEVENT
DTSTART;TZID=America/Denver:20250223T153000
DTEND;TZID=America/Denver:20250223T170000
DTSTAMP:20260419T183750
CREATED:20250120T082758Z
LAST-MODIFIED:20250120T082758Z
UID:30000016-1740324600-1740330000@thriveyogacb.com
SUMMARY:Self-Hypnosis for Success and Abundance
DESCRIPTION:During this workshop\, participants will learn about hypnosis\, the subconscious mind\, the steps of self-hypnosis\, and how to do self-hypnosis and an autosuggestion technique. Participants will positively shift their mentality\, clearing blocks to success. In addition\, participants will be empowered with a new skill of self-hypnosis\, so they are able to work with the power of their own minds. This workshop will include some lecture\, discussion with Q&A\, demonstration and experience. \nLearning Objectives \n\nParticipants will understand hypnosis\, and how the subconscious mind influences the Autonomic Nervous System\nParticipants will learn the steps of self-hypnosis\nParticipants will practice self-hypnosis and autosuggestion\nMeasuring Outcomes\n\nParticipants will be able to experience self-hypnosis and demonstrate their new skills to themselves.
URL:https://thriveyogacb.com/event/self-hypnosis-for-success-and-abundance/
LOCATION:Thrive Yoga Crested Butte\, 326 Elk Ave\, Crested Butte\, CO\, 81224\, United States
CATEGORIES:Self-Hypnosis
ATTACH;FMTTYPE=image/png:https://thriveyogacb.com/wp-content/uploads/2025/01/85ebec91-b10a-4872-bc27-ea1501b1b9c6.png
END:VEVENT
BEGIN:VEVENT
DTSTART;TZID=America/Denver:20250226T133000
DTEND;TZID=America/Denver:20250226T153000
DTSTAMP:20260419T183750
CREATED:20250120T082934Z
LAST-MODIFIED:20250121T002109Z
UID:30000017-1740576600-1740583800@thriveyogacb.com
SUMMARY:LYT Method Workshop Series: Axial and Thoracic Extension: A Better Backbend
DESCRIPTION:Ever feel pain or crankiness after a back bending pose? It’s likely that you are\ncompressing your vertebrae and they feel jammed up. In this workshop we will learn all\nabout the structure of a healthy back bend\, from our hips\, up our spine\, to our\nshoulders. \nWe won’t be collapsing and sagging\, instead we will be engaging our core muscles like crazy to create support and space.
URL:https://thriveyogacb.com/event/lyt-method-workshop-series-axial-and-thoracic-extension-a-better-backbend/
LOCATION:Thrive Yoga Crested Butte\, 326 Elk Ave\, Crested Butte\, CO\, 81224\, United States
CATEGORIES:Yoga
ATTACH;FMTTYPE=image/png:https://thriveyogacb.com/wp-content/uploads/2025/01/LYT-Method-Workshop-Series-Axial-and-Thoracic-Extension-A-Better-Backbend.png
END:VEVENT
BEGIN:VEVENT
DTSTART;TZID=America/Denver:20250227T190000
DTEND;TZID=America/Denver:20250227T201500
DTSTAMP:20260419T183750
CREATED:20250120T083039Z
LAST-MODIFIED:20250120T083047Z
UID:30000018-1740682800-1740687300@thriveyogacb.com
SUMMARY:Guided Plant Spirit Tea Meditation
DESCRIPTION:We will take the time to get to know the spirit of the Rose plant through a guided meditation. \nThese monthly meditations are a fun and embodied way to interact with herbs and plants\, whether it is completely new or you’ve been working with them for a lifetime. Leave with the tools to connect and heal with plants in a new way. Please bring a personal mug.
URL:https://thriveyogacb.com/event/guided-plant-spirit-tea-meditation-3/
LOCATION:Thrive Yoga Crested Butte\, 326 Elk Ave\, Crested Butte\, CO\, 81224\, United States
CATEGORIES:Meditation
ATTACH;FMTTYPE=image/png:https://thriveyogacb.com/wp-content/uploads/2025/01/Guided-Plant-Spirit-Tea-Meditation.png
END:VEVENT
END:VCALENDAR