BEGIN:VCALENDAR
VERSION:2.0
PRODID:-//Thrive Yoga Crested Butte - ECPv6.15.20//NONSGML v1.0//EN
CALSCALE:GREGORIAN
METHOD:PUBLISH
X-WR-CALNAME:Thrive Yoga Crested Butte
X-ORIGINAL-URL:https://thriveyogacb.com
X-WR-CALDESC:Events for Thrive Yoga Crested Butte
REFRESH-INTERVAL;VALUE=DURATION:PT1H
X-Robots-Tag:noindex
X-PUBLISHED-TTL:PT1H
BEGIN:VTIMEZONE
TZID:America/Denver
BEGIN:DAYLIGHT
TZOFFSETFROM:-0700
TZOFFSETTO:-0600
TZNAME:MDT
DTSTART:20240310T090000
END:DAYLIGHT
BEGIN:STANDARD
TZOFFSETFROM:-0600
TZOFFSETTO:-0700
TZNAME:MST
DTSTART:20241103T080000
END:STANDARD
BEGIN:DAYLIGHT
TZOFFSETFROM:-0700
TZOFFSETTO:-0600
TZNAME:MDT
DTSTART:20250309T090000
END:DAYLIGHT
BEGIN:STANDARD
TZOFFSETFROM:-0600
TZOFFSETTO:-0700
TZNAME:MST
DTSTART:20251102T080000
END:STANDARD
BEGIN:DAYLIGHT
TZOFFSETFROM:-0700
TZOFFSETTO:-0600
TZNAME:MDT
DTSTART:20260308T090000
END:DAYLIGHT
BEGIN:STANDARD
TZOFFSETFROM:-0600
TZOFFSETTO:-0700
TZNAME:MST
DTSTART:20261101T080000
END:STANDARD
END:VTIMEZONE
BEGIN:VEVENT
DTSTART;TZID=America/Denver:20250401T190000
DTEND;TZID=America/Denver:20250401T200000
DTSTAMP:20260419T135921
CREATED:20250315T000554Z
LAST-MODIFIED:20250315T002050Z
UID:30000028-1743534000-1743537600@thriveyogacb.com
SUMMARY:Free Crystal Bowl Sound Bath
DESCRIPTION:It's Mental Health Awareness Month and we are happy to be a part of your journey! \nJoin Andrea Ouimet of Alpine Sound Therapy in an immersive experience with the powerful healing sounds of crystal singing bowls\, tuning forks and other sound instruments. A sound bath is a full immersion meditative experience using sound to invite gentle yet powerful therapeutic processes to benefit your mind and body. Experience healing sound frequencies of crystal singing bowls to activate energy centers and chakras within the body resulting in a deep sense of renewal. \nThis event is sponsored by CB State of Mind and hosted at Thrive Yoga CB.
URL:https://thriveyogacb.com/event/april-2025-free-crystal-bowl-sound-bath/
LOCATION:Thrive Yoga Crested Butte\, 326 Elk Ave\, Crested Butte\, CO\, 81224\, United States
CATEGORIES:Sound Bath
ATTACH;FMTTYPE=image/jpeg:https://thriveyogacb.com/wp-content/uploads/2025/03/2025-04-01-5-Momence.jpeg
ORGANIZER;CN="Thrive Yoga Crested Butte":MAILTO:info@staging.thriveyogacb.com
END:VEVENT
BEGIN:VEVENT
DTSTART;TZID=America/Denver:20250406T150000
DTEND;TZID=America/Denver:20250406T170000
DTSTAMP:20260419T135922
CREATED:20250318T164403Z
LAST-MODIFIED:20250318T164442Z
UID:30000029-1743951600-1743958800@thriveyogacb.com
SUMMARY:Therapeutic Yoga Workshop
DESCRIPTION:We will have two hours during which we move at the pace of the nervous system\, supporting the structural body to release excess holding in the joints and the organs. \nTherapeutic yoga is deeply nourishing for all systems of the body—circulatory\, lymphatic\, endocrine\, and importantly the nervous system\, bringing about more openness to the body and mind. \nThis workshop is perfect for athletes and others who rarely take time to slow down. We invite you to take this opportunity to support your parasympathetic nervous system and gain true restfulness!
URL:https://thriveyogacb.com/event/therapeutic-yoga-workshop-5/
LOCATION:Thrive Yoga Crested Butte\, 326 Elk Ave\, Crested Butte\, CO\, 81224\, United States
CATEGORIES:Yoga
ATTACH;FMTTYPE=image/png:https://thriveyogacb.com/wp-content/uploads/2025/03/Therapeutic-Yoga-Workshop-April-2025.png
ORGANIZER;CN="Thrive Yoga Crested Butte":MAILTO:info@staging.thriveyogacb.com
END:VEVENT
BEGIN:VEVENT
DTSTART;TZID=America/Denver:20250430T190000
DTEND;TZID=America/Denver:20250430T201500
DTSTAMP:20260419T135922
CREATED:20250324T132430Z
LAST-MODIFIED:20250408T201650Z
UID:30000031-1746039600-1746044100@thriveyogacb.com
SUMMARY:Guided Plant Spirit Tea Meditation
DESCRIPTION:Join us for an immersive experience as we connect with the spirit of the Red Clover plant through a guided meditation. This workshop offers a fun and embodied way to engage with herbs and plants—whether you’re just beginning your journey or have been working with them for years. Discover new ways to foster healing and deepen your relationship with the plant world. \nPlease bring a mug\, journal\, and pen for reflection and integration.
URL:https://thriveyogacb.com/event/guided-plant-spirit-tea-meditation-6/
LOCATION:Thrive Yoga Crested Butte\, 326 Elk Ave\, Crested Butte\, CO\, 81224\, United States
CATEGORIES:Meditation
ATTACH;FMTTYPE=image/jpeg:https://thriveyogacb.com/wp-content/uploads/2025/03/Guided-Plant-Spirit-Tea-Meditation-clover.jpg
ORGANIZER;CN="Thrive Yoga Crested Butte":MAILTO:info@staging.thriveyogacb.com
END:VEVENT
END:VCALENDAR