BEGIN:VCALENDAR
VERSION:2.0
PRODID:-//Thrive Yoga Crested Butte - ECPv6.15.20//NONSGML v1.0//EN
CALSCALE:GREGORIAN
METHOD:PUBLISH
X-ORIGINAL-URL:https://thriveyogacb.com
X-WR-CALDESC:Events for Thrive Yoga Crested Butte
REFRESH-INTERVAL;VALUE=DURATION:PT1H
X-Robots-Tag:noindex
X-PUBLISHED-TTL:PT1H
BEGIN:VTIMEZONE
TZID:America/Denver
BEGIN:DAYLIGHT
TZOFFSETFROM:-0700
TZOFFSETTO:-0600
TZNAME:MDT
DTSTART:20240310T090000
END:DAYLIGHT
BEGIN:STANDARD
TZOFFSETFROM:-0600
TZOFFSETTO:-0700
TZNAME:MST
DTSTART:20241103T080000
END:STANDARD
BEGIN:DAYLIGHT
TZOFFSETFROM:-0700
TZOFFSETTO:-0600
TZNAME:MDT
DTSTART:20250309T090000
END:DAYLIGHT
BEGIN:STANDARD
TZOFFSETFROM:-0600
TZOFFSETTO:-0700
TZNAME:MST
DTSTART:20251102T080000
END:STANDARD
BEGIN:DAYLIGHT
TZOFFSETFROM:-0700
TZOFFSETTO:-0600
TZNAME:MDT
DTSTART:20260308T090000
END:DAYLIGHT
BEGIN:STANDARD
TZOFFSETFROM:-0600
TZOFFSETTO:-0700
TZNAME:MST
DTSTART:20261101T080000
END:STANDARD
END:VTIMEZONE
BEGIN:VEVENT
DTSTART;TZID=America/Denver:20250504T150000
DTEND;TZID=America/Denver:20250504T170000
DTSTAMP:20260419T122151
CREATED:20250408T201827Z
LAST-MODIFIED:20250408T202010Z
UID:30000032-1746370800-1746378000@thriveyogacb.com
SUMMARY:Therapeutic Yoga Workshop
DESCRIPTION:We will have two hours during which we move at the pace of the nervous system\, supporting the structural body to release excess holding in the joints and the organs. \nTherapeutic yoga is deeply nourishing for all systems of the body—circulatory\, lymphatic\, endocrine\, and importantly the nervous system\, bringing about more openness to the body and mind. \nThis workshop is perfect for athletes and others who rarely take time to slow down. We invite you to take this opportunity to support your parasympathetic nervous system and gain true restfulness!
URL:https://thriveyogacb.com/event/therapeutic-yoga-workshop-may-2025/
LOCATION:Thrive Yoga Crested Butte\, 326 Elk Ave\, Crested Butte\, CO\, 81224\, United States
CATEGORIES:Yoga
ATTACH;FMTTYPE=image/jpeg:https://thriveyogacb.com/wp-content/uploads/2025/04/Therapeutic-Yoga-Workshop-05-2025.jpg
ORGANIZER;CN="Thrive Yoga Crested Butte":MAILTO:info@staging.thriveyogacb.com
END:VEVENT
BEGIN:VEVENT
DTSTART;TZID=America/Denver:20250506T190000
DTEND;TZID=America/Denver:20250506T200000
DTSTAMP:20260419T122151
CREATED:20250411T195240Z
LAST-MODIFIED:20250411T195418Z
UID:30000034-1746558000-1746561600@thriveyogacb.com
SUMMARY:Sound Bath
DESCRIPTION:Join us for an immersive evening of deep relaxation and renewal. Kevin will gently guide you into stillness with autogenic relaxation—a simple yet powerful practice that taps into the mind’s ability to ease and unwind the body. \nFrom this centered space\, you’ll be invited to journey inward\, discovering the quiet between the thoughts\, the spaciousness between the sounds. Let the resonant tones of the gong and singing bowls wash over you\, creating waves of vibration that soothe\, restore\, and awaken. \nCome as you are. Leave feeling grounded\, clear\, and connected. \nDoors close at 7pm
URL:https://thriveyogacb.com/event/sound-bath-may-2025/
LOCATION:Thrive Yoga Crested Butte\, 326 Elk Ave\, Crested Butte\, CO\, 81224\, United States
CATEGORIES:Sound Bath
ATTACH;FMTTYPE=image/jpeg:https://thriveyogacb.com/wp-content/uploads/2025/04/May-2025-Sound-Bath.jpg
ORGANIZER;CN="Thrive Yoga Crested Butte":MAILTO:info@staging.thriveyogacb.com
END:VEVENT
BEGIN:VEVENT
DTSTART;TZID=America/Denver:20250512T190000
DTEND;TZID=America/Denver:20250512T201500
DTSTAMP:20260419T122151
CREATED:20250321T192444Z
LAST-MODIFIED:20250321T192527Z
UID:30000030-1747076400-1747080900@thriveyogacb.com
SUMMARY:Guided Plant Spirit Tea Meditation
DESCRIPTION:Take a moment to slow down and connect with the gentle spirit of the Linden plant through a guided meditation. This workshop offers a playful and embodied way to engage with herbs and plants—whether you’re new to plant connection or have been working with them for years. Leave with tools to deepen your relationship with plants and explore new pathways for healing. Please bring a mug\, journal\, and pen for reflection and integration.
URL:https://thriveyogacb.com/event/guided-plant-spirit-tea-meditation-5/
LOCATION:Thrive Yoga Crested Butte\, 326 Elk Ave\, Crested Butte\, CO\, 81224\, United States
CATEGORIES:Meditation
ATTACH;FMTTYPE=image/png:https://thriveyogacb.com/wp-content/uploads/2025/03/Guided-Plant-Spirit-Tea-Meditation.png
ORGANIZER;CN="Thrive Yoga Crested Butte":MAILTO:info@staging.thriveyogacb.com
END:VEVENT
BEGIN:VEVENT
DTSTART;TZID=America/Denver:20250521T190000
DTEND;TZID=America/Denver:20250521T201500
DTSTAMP:20260419T122151
CREATED:20250408T202255Z
LAST-MODIFIED:20250408T202325Z
UID:30000033-1747854000-1747858500@thriveyogacb.com
SUMMARY:Breathe into your HeartAgain
DESCRIPTION:Your breath gives you control over your state of mind and your body’s chemistry. Working with your breath can be a transformational practice that reduces stress and anxiety\, help to overcome trauma\, regulate your nervous system and provide an overall sense of well-being and relaxation. \nI will give a full description of what you might expect before we start the practice. It is important to me that you are fully aware of what class will look like and that you know you are in full control of your experience. You will get out of the practice what you are willing to put into it. \nI teach circular breath-work or conscious\, connected breathing that involves breathing through the mouth in a circular pattern. We will breathe in this way actively for close to 30 minutes or about 6-8 songs. After the active breathing is complete\, you will have plenty of time to reflect and be with yourself. \nWhat to bring: \n\nComfortable clothing that isn’t too tight\nWater bottle\, as hydration is important\nAn open mind\nA Journal for after class if you wish\n\nWe can provide these if you do not bring your own: \n\nYoga Mat\nBlanket (body temperature can fluctuate during breathwork)\nBolster\nEye Pillow
URL:https://thriveyogacb.com/event/breathe-into-your-heartagain/
LOCATION:Thrive Yoga Crested Butte\, 326 Elk Ave\, Crested Butte\, CO\, 81224\, United States
CATEGORIES:Breathwork
ATTACH;FMTTYPE=image/jpeg:https://thriveyogacb.com/wp-content/uploads/2025/04/Breathe-into-your-HeartAgain-2025.jpg
ORGANIZER;CN="Thrive Yoga Crested Butte":MAILTO:info@staging.thriveyogacb.com
END:VEVENT
END:VCALENDAR